BEGIN:VCALENDAR
VERSION:2.0
METHOD:PUBLISH
BEGIN:VEVENT
UID:WILD_APRICOT_EVENT_3560754_SESSION_1
DTSTART:20200208T110000Z
DTEND:20200214T110000Z
SUMMARY:Christchurch Part One Course 2020: 9 Feb - 14 Feb 2020
LOCATION:Christchurch Hospital\, Christchurch NZ
DESCRIPTION:http://ether-net.co.nz/event-3560754\n\nREGISTRATION FOR ATTENDEES WHO HAVE RECEIVED AN INVITATION EMAIL OPENS ON 23 SEPT 2019\n  Chrischurch Primary Course\n Sunday 9th Feb to Friday 14th February  2018\n Payment $1200.00 NZD incl GST\n Course convenors: Dr Nick Abbott and Dr Chris Brett\n\n  When you have paid you will be emailed a ZERO BALANCE invoice which is your receipt for payment.\n  The only payment option is using Credit Card via the online payment system below.\n  \n\n
DTSTAMP:20191217T185747Z
END:VEVENT
END:VCALENDAR
