BEGIN:VCALENDAR
VERSION:2.0
METHOD:PUBLISH
BEGIN:VEVENT
UID:WILD_APRICOT_EVENT_3643665_SESSION_1
DTSTART:20200311T200000Z
DTEND:20200313T040000Z
SUMMARY:Distraction\, Pain and Guided Imagery Workshop
LOCATION:Manawa
DESCRIPTION:http://ether-net.co.nz/event-3643665\n\nDistraction\, Pain and Guided Imagery Workshop\n  A practical skills workshop for Health Professionals working with children and adolescents undergoing medical procedures. The course will cover skills such as Focused Breathing\, Mindful Distraction and Guided Imagery in order to better manage procedural pain\, anxiety and fear\n  Manawa Building. Room 311 (12th March 2020) and room 310 (13th March 2020)\n  \n\n  Please use the online payment system. You will need a credit card. Please check your email for emails with invoice and zero balance statement. PLEASE note you will also get a Paypal receipt which is NOT your GST receipt. Please check your emails before emailing asking for a GST receipt.\n
DTSTAMP:20191217T185757Z
END:VEVENT
END:VCALENDAR
